BEGIN:VCALENDAR
VERSION:2.0
PRODID:-//wp-events-plugin.com//7.1.2//EN
TZID:America/Toronto
X-WR-TIMEZONE:America/Toronto
BEGIN:VEVENT
UID:24@scottishriteclub.ca
DTSTART;TZID=America/Toronto:20250321T173000
DTEND;TZID=America/Toronto:20250321T203000
DTSTAMP:20250321T181325Z
URL:https://scottishriteclub.ca/events/st-patricks-interactive-four-course
 -dinner-and-beer-pairing/
SUMMARY:St. Patrick's interactive Four Course Dinner and Beer Pairing
DESCRIPTION:St Patrick’s interactive Four Course Dinner and Beer Pairing
ATTACH;FMTTYPE=image/jpeg:https://scottishriteclub.ca/wp-content/uploads/2
 025/02/freepik__irish-flag-with-green-and-white-balls-and-shamrock__32156.
 jpg
CATEGORIES:Public Event
LOCATION:Round Room\, 4 Queen Street South\, Hamilton\, Ontario\, L8P3R3\, 
 Canada
GEO:43.259166;-79.879519
X-APPLE-STRUCTURED-LOCATION;VALUE=URI;X-ADDRESS=4 Queen Street South\, Hami
 lton\, Ontario\, L8P3R3\, Canada;X-APPLE-RADIUS=100;X-TITLE=Round Room:geo
 :43.259166,-79.879519
END:VEVENT
BEGIN:VTIMEZONE
TZID:America/Toronto
X-LIC-LOCATION:America/Toronto
BEGIN:DAYLIGHT
DTSTART:20250309T030000
TZOFFSETFROM:-0500
TZOFFSETTO:-0400
TZNAME:EDT
END:DAYLIGHT
END:VTIMEZONE
END:VCALENDAR