BEGIN:VCALENDAR
VERSION:2.0
PRODID:-//wp-events-plugin.com//7.1.2//EN
TZID:America/Toronto
X-WR-TIMEZONE:America/Toronto
BEGIN:VEVENT
UID:14@scottishriteclub.ca
DTSTART;TZID=America/Toronto:20240216T180000
DTEND;TZID=America/Toronto:20240216T220000
DTSTAMP:20240212T140622Z
URL:https://scottishriteclub.ca/events/scottish-rite-club-valentines-dinne
 r/
SUMMARY:Scottish Rite Club Valentine's Dinner
DESCRIPTION:\nFeaturing the Millgroove Quintet\nAnd\nYour choice of Beef Te
 nderloin\nor\nHerb Brined Chicken Breast
ATTACH;FMTTYPE=image/jpeg:https://scottishriteclub.ca/wp-content/uploads/2
 024/01/Club-Valentine-Dinner-1.png
CATEGORIES:Member Only,Public Event
LOCATION:Banquet Room\, 4 Queen Street South\, Hamilton\, Ontario\, L8P3R3\
 , Canada
GEO:43.25912;-79.879509
X-APPLE-STRUCTURED-LOCATION;VALUE=URI;X-ADDRESS=4 Queen Street South\, Hami
 lton\, Ontario\, L8P3R3\, Canada;X-APPLE-RADIUS=100;X-TITLE=Banquet Room:g
 eo:43.25912,-79.879509
END:VEVENT
BEGIN:VTIMEZONE
TZID:America/Toronto
X-LIC-LOCATION:America/Toronto
BEGIN:STANDARD
DTSTART:20231105T010000
TZOFFSETFROM:-0400
TZOFFSETTO:-0500
TZNAME:EST
END:STANDARD
END:VTIMEZONE
END:VCALENDAR