BEGIN:VCALENDAR
VERSION:2.0
PRODID:-//wp-events-plugin.com//7.1.2//EN
TZID:America/Toronto
X-WR-TIMEZONE:America/Toronto
BEGIN:VEVENT
UID:12@scottishriteclub.ca
DTSTART;TZID=America/Toronto:20240503T190000
DTEND;TZID=America/Toronto:20240503T230000
DTSTAMP:20240429T154951Z
URL:https://scottishriteclub.ca/events/scotch-tasting/
SUMMARY:Al McIntyre Scotch Tasting Night
DESCRIPTION:Ticket price is $75.00 plus HST = $84.75
ATTACH;FMTTYPE=image/jpeg:https://scottishriteclub.ca/wp-content/uploads/2
 024/01/SRC-Scotch-Tasting-Night-May-03-2024-1.jpg
CATEGORIES:Public Event
LOCATION:Round Room\, 4 Queen Street South\, Hamilton\, Ontario\, L8P3R3\, 
 Canada
GEO:43.259166;-79.879519
X-APPLE-STRUCTURED-LOCATION;VALUE=URI;X-ADDRESS=4 Queen Street South\, Hami
 lton\, Ontario\, L8P3R3\, Canada;X-APPLE-RADIUS=100;X-TITLE=Round Room:geo
 :43.259166,-79.879519
END:VEVENT
BEGIN:VTIMEZONE
TZID:America/Toronto
X-LIC-LOCATION:America/Toronto
BEGIN:DAYLIGHT
DTSTART:20240310T030000
TZOFFSETFROM:-0500
TZOFFSETTO:-0400
TZNAME:EDT
END:DAYLIGHT
END:VTIMEZONE
END:VCALENDAR