BEGIN:VCALENDAR
VERSION:2.0
PRODID:-//wp-events-plugin.com//7.1.2//EN
TZID:America/Toronto
X-WR-TIMEZONE:America/Toronto
BEGIN:VEVENT
UID:27@scottishriteclub.ca
DTSTART;TZID=America/Toronto:20251206T180000
DTEND;TZID=America/Toronto:20251206T221500
DTSTAMP:20251128T154229Z
URL:https://scottishriteclub.ca/events/reunion-jack/
SUMMARY:REUNION JACK- Show starts at 8p.m.
DESCRIPTION:The Scottish Rite Club of Hamilton wants to start your Christma
 s season off with a trip down memory Lane. “Reunion Jack! brings the sig
 hts and sounds of the British Invasion to life with a high-energy theatre 
 and multimedia experience. Relive the music that shook the world—classic
  hits\, stunning visuals\, and a nostalgic journey back to the Swinging Si
 xties.” \nDoors open 6:00 PM Dinner at 6:30 PM Show at 8:00 PM\,  Dinner
  and Show tickets are $60 HST included and for just the show\, tickets are
  $30.00 HST included. \n\n
ATTACH;FMTTYPE=image/jpeg:https://scottishriteclub.ca/wp-content/uploads/2
 025/08/IMG_6851.png
CATEGORIES:Public Event
LOCATION:The Scottish Rite Cathedral\, 4 Queen Street South\, Hamilton\, On
 tario\, L8P3R3\, Canada
GEO:43.259166;-79.879519
X-APPLE-STRUCTURED-LOCATION;VALUE=URI;X-ADDRESS=4 Queen Street South\, Hami
 lton\, Ontario\, L8P3R3\, Canada;X-APPLE-RADIUS=100;X-TITLE=The Scottish R
 ite Cathedral:geo:43.259166,-79.879519
END:VEVENT
BEGIN:VTIMEZONE
TZID:America/Toronto
X-LIC-LOCATION:America/Toronto
BEGIN:STANDARD
DTSTART:20251102T010000
TZOFFSETFROM:-0400
TZOFFSETTO:-0500
TZNAME:EST
END:STANDARD
END:VTIMEZONE
END:VCALENDAR