BEGIN:VCALENDAR
VERSION:2.0
PRODID:-//wp-events-plugin.com//7.1.2//EN
TZID:America/Toronto
X-WR-TIMEZONE:America/Toronto
BEGIN:VEVENT
UID:18@scottishriteclub.ca
DTSTART;TZID=America/Toronto:20240512T113000
DTEND;TZID=America/Toronto:20240512T133000
DTSTAMP:20240507T192038Z
URL:https://scottishriteclub.ca/events/mothers-day-brunch-at-the-scottish-
 rite/
SUMMARY:Mothers Day Brunch at the Scottish Rite
DESCRIPTION:HAPPY MOTHER'S DAY\nBring your special ladies to the Mother's D
 ay Brunch at\nthe SCOTTISH RITE CLUB\nMay 12\, 2024 11:30am to 1:30pm\n$40
  per person or $80 per couple +hst\nChildren Under 12 - 1/2 Price\nBrunch 
 includes a Seasonal Soup Station\, Salads\,\nBreakfast Buffet (eggs benedi
 ct\, bacon\, sausages\, ham\nand more) and Desserts
ATTACH;FMTTYPE=image/jpeg:https://scottishriteclub.ca/wp-content/uploads/2
 024/04/MDBatSRC.jpg
CATEGORIES:Public Event
LOCATION:Round Room\, 4 Queen Street South\, Hamilton\, Ontario\, L8P3R3\, 
 Canada
GEO:43.259166;-79.879519
X-APPLE-STRUCTURED-LOCATION;VALUE=URI;X-ADDRESS=4 Queen Street South\, Hami
 lton\, Ontario\, L8P3R3\, Canada;X-APPLE-RADIUS=100;X-TITLE=Round Room:geo
 :43.259166,-79.879519
END:VEVENT
BEGIN:VTIMEZONE
TZID:America/Toronto
X-LIC-LOCATION:America/Toronto
BEGIN:DAYLIGHT
DTSTART:20240310T030000
TZOFFSETFROM:-0500
TZOFFSETTO:-0400
TZNAME:EDT
END:DAYLIGHT
END:VTIMEZONE
END:VCALENDAR