BEGIN:VCALENDAR
VERSION:2.0
PRODID:-//wp-events-plugin.com//7.1.2//EN
TZID:America/Toronto
X-WR-TIMEZONE:America/Toronto
BEGIN:VEVENT
UID:26@scottishriteclub.ca
DTSTART;TZID=America/Toronto:20250511T113000
DTEND;TZID=America/Toronto:20250511T133000
DTSTAMP:20250506T164430Z
URL:https://scottishriteclub.ca/events/mothers-day-brunch-at-the-scottish-
 rite-club/
SUMMARY:Mother's Day Brunch at The Scottish Rite Club
DESCRIPTION:Mother's Day Brunch at the Scottish Rite Club May 11th\, 2025 1
 1:30am to 1:30pm\nTickets are $40 per person and Children 12 years and und
 er are half price\nBrunch buffet includes seasonal soup station\, Salads a
 nd a breakfast\nsmorgasbord of eggs benedict\, bacon\, sausage\, ham and m
 ore plus desserts.\nAll Prices subject to HST
ATTACH;FMTTYPE=image/jpeg:https://scottishriteclub.ca/wp-content/uploads/2
 025/03/Mothers-Day-2025.jpg
CATEGORIES:Public Event
END:VEVENT
BEGIN:VTIMEZONE
TZID:America/Toronto
X-LIC-LOCATION:America/Toronto
BEGIN:DAYLIGHT
DTSTART:20250309T030000
TZOFFSETFROM:-0500
TZOFFSETTO:-0400
TZNAME:EDT
END:DAYLIGHT
END:VTIMEZONE
END:VCALENDAR