BEGIN:VCALENDAR
VERSION:2.0
PRODID:-//wp-events-plugin.com//7.1.2//EN
TZID:America/Toronto
X-WR-TIMEZONE:America/Toronto
BEGIN:VEVENT
UID:19@scottishriteclub.ca
DTSTART;TZID=America/Toronto:20240525T183000
DTEND;TZID=America/Toronto:20240525T213000
DTSTAMP:20240327T145944Z
URL:https://scottishriteclub.ca/events/hamilton-police-band-friends/
SUMMARY:Hamilton Police Band & Friends
DESCRIPTION:
ATTACH;FMTTYPE=image/jpeg:https://scottishriteclub.ca/wp-content/uploads/2
 024/03/Poster-rev-3.jpg
CATEGORIES:Public Event
LOCATION:The Scottish Rite Cathedral\, 4 Queen Street South\, Hamilton\, On
 tario\, L8P3R3\, Canada
GEO:43.259166;-79.879519
X-APPLE-STRUCTURED-LOCATION;VALUE=URI;X-ADDRESS=4 Queen Street South\, Hami
 lton\, Ontario\, L8P3R3\, Canada;X-APPLE-RADIUS=100;X-TITLE=The Scottish R
 ite Cathedral:geo:43.259166,-79.879519
END:VEVENT
BEGIN:VTIMEZONE
TZID:America/Toronto
X-LIC-LOCATION:America/Toronto
BEGIN:DAYLIGHT
DTSTART:20240310T030000
TZOFFSETFROM:-0500
TZOFFSETTO:-0400
TZNAME:EDT
END:DAYLIGHT
END:VTIMEZONE
END:VCALENDAR