BEGIN:VCALENDAR
VERSION:2.0
PRODID:-//wp-events-plugin.com//7.1.2//EN
TZID:America/Toronto
X-WR-TIMEZONE:America/Toronto
BEGIN:VEVENT
UID:25@scottishriteclub.ca
DTSTART;TZID=America/Toronto:20250419T090000
DTEND;TZID=America/Toronto:20250419T123000
DTSTAMP:20250414T190324Z
URL:https://scottishriteclub.ca/events/easter-egg-hunt-breakfast/
SUMMARY:Easter Egg Hunt & Breakfast
DESCRIPTION:Featuring:\n-A delicious buffet breakfast\n-Easter themed craft
  table\n-Easter egg hunt for children 12 & under\n-Meet the Easter Bunny &
  take pictures\n-Tour the Scottish Rite
ATTACH;FMTTYPE=image/jpeg:https://scottishriteclub.ca/wp-content/uploads/2
 025/02/HML-Easter-Egg-Hunt-and-Breakfast-April-19-2025-SRC.jpg
CATEGORIES:Public Event
END:VEVENT
BEGIN:VTIMEZONE
TZID:America/Toronto
X-LIC-LOCATION:America/Toronto
BEGIN:DAYLIGHT
DTSTART:20250309T030000
TZOFFSETFROM:-0500
TZOFFSETTO:-0400
TZNAME:EDT
END:DAYLIGHT
END:VTIMEZONE
END:VCALENDAR