BEGIN:VCALENDAR
VERSION:2.0
PRODID:-//wp-events-plugin.com//7.1.2//EN
TZID:America/Toronto
X-WR-TIMEZONE:America/Toronto
BEGIN:VEVENT
UID:6@scottishriteclub.ca
DTSTART;TZID=America/Toronto:20231027T180000
DTEND;TZID=America/Toronto:20231027T220000
DTSTAMP:20230919T174743Z
URL:https://scottishriteclub.ca/events/aaron-paterson-illusionist/
SUMMARY:Aaron Paterson - Illusionist
DESCRIPTION:Come for a dinner and show featuring the illusionist\, Aaron Pa
 terson.
ATTACH;FMTTYPE=image/jpeg:https://scottishriteclub.ca/wp-content/uploads/2
 023/09/AaronPatersonIlliusionist-PromoPhoto-e1694189626196.png
CATEGORIES:Public Event
LOCATION:The Scottish Rite Cathedral\, 4 Queen Street South\, Hamilton\, On
 tario\, L8P3R3\, Canada
GEO:43.259166;-79.879519
X-APPLE-STRUCTURED-LOCATION;VALUE=URI;X-ADDRESS=4 Queen Street South\, Hami
 lton\, Ontario\, L8P3R3\, Canada;X-APPLE-RADIUS=100;X-TITLE=The Scottish R
 ite Cathedral:geo:43.259166,-79.879519
END:VEVENT
BEGIN:VTIMEZONE
TZID:America/Toronto
X-LIC-LOCATION:America/Toronto
BEGIN:DAYLIGHT
DTSTART:20230312T030000
TZOFFSETFROM:-0500
TZOFFSETTO:-0400
TZNAME:EDT
END:DAYLIGHT
END:VTIMEZONE
END:VCALENDAR