BEGIN:VCALENDAR
VERSION:2.0
PRODID:-//wp-events-plugin.com//7.1.2//EN
TZID:America/Toronto
X-WR-TIMEZONE:America/Toronto
BEGIN:VEVENT
UID:31@scottishriteclub.ca
DTSTART;TZID=America/Toronto:20260214T173000
DTEND;TZID=America/Toronto:20260214T230000
DTSTAMP:20260206T141625Z
URL:https://scottishriteclub.ca/events/%e2%9d%a4%ef%b8%8f-valentines-day-d
 inner-dance-doors-open-at-530pm-dinner-at-630pm-entertainment-to-follow/
SUMMARY:❤️ Valentine’s Day Dinner & Dance $150/couple - Doors open at
  5:30pm Dinner at 6:30pm Entertainment to follow.
DESCRIPTION:Saturday\, February 14th\, $75/p (HST included) 2026 Doors open
  at 5:30pm Dinner at 6:30pm Entertainment to follow.\nTreat your sweethear
 t to an unforgettable evening of gourmet dining and live music. Enjoy a cu
 rated four-course meal followed by a night on the dance floor with "Joel a
 nd Adam".\n🍽️ The Gourmet Menu\n•	Starter | Roasted Garlic Parisian
  Gnocchi with oven-roasted tomato and Parmigiano cheese.\n•	Salad | Arti
 choke and Olive Salad.\n•	Main Course | Your choice of:\no	Herb-Brined C
 hicken Breast served with roasted potatoes and seasonal vegetables.\no	Mis
 o-Glazed Salmon served with roasted potatoes and seasonal vegetables.\n•
 	Dessert | French-style Chocolate Gateau.\nNote: Vegetarian options and al
 lergy accommodations are available upon request. Please notify us when boo
 king.\n________________________________________\n🎸 Entertainment by "Jo
 el and Adam"\nDance the night away with these talented musicians. \n
CATEGORIES:Public Event
LOCATION:Banquet Room\, 4 Queen Street South\, Hamilton\, Ontario\, L8P3R3\
 , Canada
GEO:43.25912;-79.879509
X-APPLE-STRUCTURED-LOCATION;VALUE=URI;X-ADDRESS=4 Queen Street South\, Hami
 lton\, Ontario\, L8P3R3\, Canada;X-APPLE-RADIUS=100;X-TITLE=Banquet Room:g
 eo:43.25912,-79.879509
END:VEVENT
BEGIN:VTIMEZONE
TZID:America/Toronto
X-LIC-LOCATION:America/Toronto
BEGIN:STANDARD
DTSTART:20251102T010000
TZOFFSETFROM:-0400
TZOFFSETTO:-0500
TZNAME:EST
END:STANDARD
END:VTIMEZONE
END:VCALENDAR